BEGIN:VCALENDAR
VERSION:2.0
PRODID:-//Rotary Ferrara - ECPv5.2.0//NONSGML v1.0//EN
CALSCALE:GREGORIAN
METHOD:PUBLISH
X-WR-CALNAME:Rotary Ferrara
X-ORIGINAL-URL:https://www.rotaryferrara.it
X-WR-CALDESC:Eventi per Rotary Ferrara
BEGIN:VTIMEZONE
TZID:Europe/Rome
BEGIN:DAYLIGHT
TZOFFSETFROM:+0100
TZOFFSETTO:+0200
TZNAME:CEST
DTSTART:20260329T010000
END:DAYLIGHT
BEGIN:STANDARD
TZOFFSETFROM:+0200
TZOFFSETTO:+0100
TZNAME:CET
DTSTART:20261025T010000
END:STANDARD
END:VTIMEZONE
BEGIN:VEVENT
DTSTART;TZID=Europe/Rome:20260508T183000
DTEND;TZID=Europe/Rome:20260508T200000
DTSTAMP:20260421T150129
CREATED:20260421T085836Z
LAST-MODIFIED:20260421T125039Z
UID:7639-1778265000-1778270400@www.rotaryferrara.it
SUMMARY:Venerdì 8 maggio 2026 ore 18\,30 - END POLIO NOW: tre giorni di sport\, solidarietà e prevenzione
DESCRIPTION:SEDE DI CORRIFERRARA: BARRIERE DI PORTA PO 180 A FERRARA \nSecondo appuntamento del percorso di avvicinamento allo sport a sostegno del progetto del Rotary International “End Polio Now” volto alla eradicazione della poliomielite in tutto il mondo. \nSeguendo il tema dell’annata si passerà letteralmente dalle parole ai fatti: grazie all’Associazione Sportiva Corriferrara ci sarà l’opportunità di provare un’esperienza sportiva: dalla corsa a tutti i livelli alla camminata. \nPOSSIBILITA’ DI SOSTENERE L’INIZIATIVA ANCHE SOLTANTO ACQUISTANDO IL BIGLIETTO TRAMITE IL LINK CHE SEGUE. \nhttps://www.eventbrite.it/e/end-polio-now-running-project-ferrara-2026-tickets-1985515864399?aff=ebdssbdestsearch
URL:https://www.rotaryferrara.it/evento/venerdi-8-maggio-2026-end-polio-now-tre-giorni-di-sport-solidarieta-e-prevenzione/
LOCATION:Sede dell’Associazione Corriferrara\, Barriere di Porta Po 180\, Ferrara\, Ferrara\, 44121\, Italia
ATTACH;FMTTYPE=image/jpeg:https://www.rotaryferrara.it/wp-content/uploads/2024/10/polio.jpg
END:VEVENT
END:VCALENDAR