BEGIN:VCALENDAR
VERSION:2.0
PRODID:-//Rotary Ferrara - ECPv5.2.0//NONSGML v1.0//EN
CALSCALE:GREGORIAN
METHOD:PUBLISH
X-WR-CALNAME:Rotary Ferrara
X-ORIGINAL-URL:https://www.rotaryferrara.it
X-WR-CALDESC:Eventi per Rotary Ferrara
BEGIN:VTIMEZONE
TZID:Europe/Rome
BEGIN:DAYLIGHT
TZOFFSETFROM:+0100
TZOFFSETTO:+0200
TZNAME:CEST
DTSTART:20200329T010000
END:DAYLIGHT
BEGIN:STANDARD
TZOFFSETFROM:+0200
TZOFFSETTO:+0100
TZNAME:CET
DTSTART:20201025T010000
END:STANDARD
END:VTIMEZONE
BEGIN:VEVENT
DTSTART;TZID=Europe/Rome:20200212T200000
DTEND;TZID=Europe/Rome:20200212T230000
DTSTAMP:20260419T172720
CREATED:20200124T090452Z
LAST-MODIFIED:20200129T081232Z
UID:2339-1581537600-1581548400@www.rotaryferrara.it
SUMMARY:Mercoledì 12 febbraio 2020  ore 20\,00 - Istituto Alberghiero O. Vergani (via Sogari 3)
DESCRIPTION:Cena conviviale con consorti e ospiti. INTERCLUB con Rotary Club Ferrara Est \nIn collaborazione con la CONFRATERNITA DEL TARTUFO ROSSO  di Copparo/Formigna/Tresigallo\, abbiamo organizzato una cena conviviale per assaggiare una tipicità storica denominata “salame da succo”  rappresentata da un insaccato progenitore della salamina da sugo proveniente da una tradizione secolare che Don Domenico Chendi\, Parroco di Tresigallo\, ha tramandato attraverso il suo libro “L’agricoltura ferrarese in dodici mesi” pubblicato nel 1761 che descrive gli usi e le consuetudini dei contadini di quei territori nell’arco dell’annata. \nLo chef Liborio Trotta\, docente dell’Istituto Alberghiero\, curerà la preparazione e la presentazione dei piatti\, sulla base degli insaccati prodotti e messi a disposizione dai macellai/aziende agricole afferenti la Confraternita.  I vini di accompagnamenti saranno a cura di Annalisa Barison\, Presidente Ais\, che contiamo possa presenziare alla serata per illustrare le tipicità dei vini. \nUn’ottima occasione per trascorrere una piacevole serata insieme\, nel corso della nuova gestione di Palazzo Pendaglia\, sede appunto dell’Istituto Alberghiero. \nPRENOTAZIONI ALLA NOSTRA SEGRETERIA NECESSARIAMENTE ENTRO IL 5/2.
URL:https://www.rotaryferrara.it/evento/mercoledi-12-febbraio-2020-ore-2000-palazzo-pendaglia-via-sogari-3/
LOCATION:Palazzo Pendaglia\, Via Sogari 3\, Ferrara\, Ferrara\, 44121\, Italia
END:VEVENT
END:VCALENDAR