BEGIN:VCALENDAR
VERSION:2.0
PRODID:-//Rotary Ferrara - ECPv5.2.0//NONSGML v1.0//EN
CALSCALE:GREGORIAN
METHOD:PUBLISH
X-WR-CALNAME:Rotary Ferrara
X-ORIGINAL-URL:https://www.rotaryferrara.it
X-WR-CALDESC:Eventi per Rotary Ferrara
BEGIN:VTIMEZONE
TZID:Europe/Rome
BEGIN:DAYLIGHT
TZOFFSETFROM:+0100
TZOFFSETTO:+0200
TZNAME:CEST
DTSTART:20190331T010000
END:DAYLIGHT
BEGIN:STANDARD
TZOFFSETFROM:+0200
TZOFFSETTO:+0100
TZNAME:CET
DTSTART:20191027T010000
END:STANDARD
END:VTIMEZONE
BEGIN:VEVENT
DTSTART;VALUE=DATE:20190704
DTEND;VALUE=DATE:20190706
DTSTAMP:20260425T053246
CREATED:20190618T124825Z
LAST-MODIFIED:20190618T124825Z
UID:1891-1562216400-1562302799@www.rotaryferrara.it
SUMMARY:LA RIUNIONE NON AVRA' LUOGO
DESCRIPTION:
URL:https://www.rotaryferrara.it/evento/la-riunione-non-avra-luogo-7/
LOCATION:Ferrara\, Ferrara\, Italia
ATTACH;FMTTYPE=image/png:https://www.rotaryferrara.it/wp-content/uploads/2019/01/ruota-nuova.png
END:VEVENT
END:VCALENDAR