BEGIN:VCALENDAR
VERSION:2.0
PRODID:-//Rotary Ferrara - ECPv5.2.0//NONSGML v1.0//EN
CALSCALE:GREGORIAN
METHOD:PUBLISH
X-WR-CALNAME:Rotary Ferrara
X-ORIGINAL-URL:https://www.rotaryferrara.it
X-WR-CALDESC:Eventi per Rotary Ferrara
BEGIN:VTIMEZONE
TZID:Europe/Rome
BEGIN:DAYLIGHT
TZOFFSETFROM:+0100
TZOFFSETTO:+0200
TZNAME:CEST
DTSTART:20260329T010000
END:DAYLIGHT
BEGIN:STANDARD
TZOFFSETFROM:+0200
TZOFFSETTO:+0100
TZNAME:CET
DTSTART:20261025T010000
END:STANDARD
END:VTIMEZONE
BEGIN:VEVENT
DTSTART;TZID=Europe/Rome:20260507T200000
DTEND;TZID=Europe/Rome:20260507T230000
DTSTAMP:20260421T134118
CREATED:20260421T081836Z
LAST-MODIFIED:20260421T081836Z
UID:7601-1778184000-1778194800@www.rotaryferrara.it
SUMMARY:Giovedì 7 maggio 2026 ore 20\,00 - Situazione Sicurezza a Ferrara
DESCRIPTION:HOTEL DUCHESSA ISABELLA – CENA CONVIVIALE APERTA A CONSORTI E OSPITI \nAvremo il piacere di conoscere il nuovo Questore di Ferrara che ci parlerà della situazione sicurezza del nostro territorio. \nPer la migliore organizzazione della serata siete pregati di prenotarvi entro martedì 5 maggio. \n 
URL:https://www.rotaryferrara.it/evento/giovedi-7-maggio-2026-ore-2000-situazione-sicurezza-a-ferrara/
LOCATION:Hotel Duchessa Isabella\, via Palestro 70\, Ferrara\, FE\, 44121\, Italia
ATTACH;FMTTYPE=image/jpeg:https://www.rotaryferrara.it/wp-content/uploads/2026/04/questore-falvella.jpg
END:VEVENT
END:VCALENDAR