BEGIN:VCALENDAR
VERSION:2.0
PRODID:-//Rotary Ferrara - ECPv5.2.0//NONSGML v1.0//EN
CALSCALE:GREGORIAN
METHOD:PUBLISH
X-WR-CALNAME:Rotary Ferrara
X-ORIGINAL-URL:https://www.rotaryferrara.it
X-WR-CALDESC:Eventi per Rotary Ferrara
BEGIN:VTIMEZONE
TZID:Europe/Rome
BEGIN:DAYLIGHT
TZOFFSETFROM:+0100
TZOFFSETTO:+0200
TZNAME:CEST
DTSTART:20200329T010000
END:DAYLIGHT
BEGIN:STANDARD
TZOFFSETFROM:+0200
TZOFFSETTO:+0100
TZNAME:CET
DTSTART:20201025T010000
END:STANDARD
END:VTIMEZONE
BEGIN:VEVENT
DTSTART;TZID=Europe/Rome:20200206T190000
DTEND;TZID=Europe/Rome:20200206T203000
DTSTAMP:20260419T160449
CREATED:20200124T085356Z
LAST-MODIFIED:20200124T085421Z
UID:2335-1581015600-1581021000@www.rotaryferrara.it
SUMMARY:Giovedì 6 febbraio 2020 ore 19\,00 - Ristorante Astra
DESCRIPTION:Caminetto con aperitivo aperto a consorti e ospiti. \nPresentazione dell’Associazione A-Rose (Associazione Ricerca Oncologica Sperimentale Estense)\, realtà ferrarese nata dall’idea di 4 ricercatori per realizzare proprio nella nostra città ricerca in ambito oncologico\, sia preclinica che sperimentata su pazienti attraverso nuovi approcci terapeutici. \n 
URL:https://www.rotaryferrara.it/evento/giovedi-6-febbraio-2020-ore-1900-ristorante-astra/
LOCATION:Ristorante Astra\, viale Cavour 55\, Ferrara\, Ferrara\, 44121\, Italia
END:VEVENT
END:VCALENDAR