BEGIN:VCALENDAR
VERSION:2.0
PRODID:-//Rotary Ferrara - ECPv5.2.0//NONSGML v1.0//EN
CALSCALE:GREGORIAN
METHOD:PUBLISH
X-WR-CALNAME:Rotary Ferrara
X-ORIGINAL-URL:https://www.rotaryferrara.it
X-WR-CALDESC:Eventi per Rotary Ferrara
BEGIN:VTIMEZONE
TZID:Europe/Rome
BEGIN:DAYLIGHT
TZOFFSETFROM:+0100
TZOFFSETTO:+0200
TZNAME:CEST
DTSTART:20200329T010000
END:DAYLIGHT
BEGIN:STANDARD
TZOFFSETFROM:+0200
TZOFFSETTO:+0100
TZNAME:CET
DTSTART:20201025T010000
END:STANDARD
END:VTIMEZONE
BEGIN:VEVENT
DTSTART;TZID=Europe/Rome:20200123T183000
DTEND;TZID=Europe/Rome:20200123T203000
DTSTAMP:20260419T160939
CREATED:20191220T080731Z
LAST-MODIFIED:20200120T073703Z
UID:2304-1579804200-1579811400@www.rotaryferrara.it
SUMMARY:Giovedì 23 gennaio 2020 ore 18\,30 Palazzo Calcagnini - Via Montebello 33: COSTRUIRE IL DOMANI CON IL MIT
DESCRIPTION:Il Massachusetts Institute of Technology (MIT) ha scelto Ferrara per sviluppare il progetto pilota di eccellenza in materia di “”Education”: gli studenti “imparano ad imparare” divertendosi con le discipline STEM (Science Technology Engineering Math) e\, assumendosi le responsabilità del loro lavoro\, aumentano la propria autostima e le proprie potenzialità. Ormai da anni il Liceo Scientifico “A. Roiti” è al centro di questo progetto di eccellenza\, che ha suscitato l’interesse di numerose realtà internazionali e della nostra Università. \nPresso la sede ferrarese di Confindustria Emilia Centro incontreremo i docenti responsabili del progetto e soprattutto … i ragazzi protagonisti di questa esperienza.
URL:https://www.rotaryferrara.it/evento/giovedi-23-gennaio-2020-ore-1900-hotel-astra/
LOCATION:Palazzo Calcagnini\, Via Montebello 33\, Ferrara\, Ferrara\, 44121\, Italia
END:VEVENT
END:VCALENDAR