BEGIN:VCALENDAR
VERSION:2.0
PRODID:-//Rotary Ferrara - ECPv5.2.0//NONSGML v1.0//EN
CALSCALE:GREGORIAN
METHOD:PUBLISH
X-WR-CALNAME:Rotary Ferrara
X-ORIGINAL-URL:https://www.rotaryferrara.it
X-WR-CALDESC:Eventi per Rotary Ferrara
BEGIN:VTIMEZONE
TZID:Europe/Rome
BEGIN:DAYLIGHT
TZOFFSETFROM:+0100
TZOFFSETTO:+0200
TZNAME:CEST
DTSTART:20260329T010000
END:DAYLIGHT
BEGIN:STANDARD
TZOFFSETFROM:+0200
TZOFFSETTO:+0100
TZNAME:CET
DTSTART:20261025T010000
END:STANDARD
END:VTIMEZONE
BEGIN:VEVENT
DTSTART;VALUE=DATE:20260402
DTEND;VALUE=DATE:20260404
DTSTAMP:20260423T054900
CREATED:20260306T114915Z
LAST-MODIFIED:20260306T114915Z
UID:7456-1775106000-1775192399@www.rotaryferrara.it
SUMMARY:Giovedì 2 aprile 2026 - giovedì santo
DESCRIPTION:La riunione non avrà luogo
URL:https://www.rotaryferrara.it/evento/giovedi-2-aprile-2026-giovedi-santo/
LOCATION:Ferrara\, Ferrara\, Italia
ATTACH;FMTTYPE=image/jpeg:https://www.rotaryferrara.it/wp-content/uploads/2025/03/pasqua.jpg
END:VEVENT
END:VCALENDAR