BEGIN:VCALENDAR
VERSION:2.0
PRODID:-//Rotary Ferrara - ECPv5.2.0//NONSGML v1.0//EN
CALSCALE:GREGORIAN
METHOD:PUBLISH
X-WR-CALNAME:Rotary Ferrara
X-ORIGINAL-URL:https://www.rotaryferrara.it
X-WR-CALDESC:Eventi per Rotary Ferrara
BEGIN:VTIMEZONE
TZID:Europe/Rome
BEGIN:DAYLIGHT
TZOFFSETFROM:+0100
TZOFFSETTO:+0200
TZNAME:CEST
DTSTART:20260329T010000
END:DAYLIGHT
BEGIN:STANDARD
TZOFFSETFROM:+0200
TZOFFSETTO:+0100
TZNAME:CET
DTSTART:20261025T010000
END:STANDARD
END:VTIMEZONE
BEGIN:VEVENT
DTSTART;TZID=Europe/Rome:20260514T193000
DTEND;TZID=Europe/Rome:20260514T220000
DTSTAMP:20260421T163200
CREATED:20260421T090431Z
LAST-MODIFIED:20260421T090431Z
UID:7604-1778787000-1778796000@www.rotaryferrara.it
SUMMARY:Giovedì 14 maggio 2026 ore 19\,30 - Quando l'arte emoziona: come i dipinti parlano alla mente e al cuore
DESCRIPTION:CAFFE’ DIAMANTI – CAMINETTO CON APERITIVO APERTO A CONSORTI E OSPITI \nPerché alcuni dipinti suscitano emozioni così intense? Sono universali o legate a cultura e ambiente\, e come cambiano con patologie visive? La conferenza di Giorgio Rispoli\, Professore Associato presso la Facoltà di Scienze MM. FF. NN. di Unife\, mostrerà come i pittori abbiano inconsapevolmente applicato i principi ottici e neuroscientifici per evocare esperienze percettive ed emotive e come la loro arte si trasformi con il progredire di patologie percettive. \nPRENOTAZIONI ENTRO IL 12/5
URL:https://www.rotaryferrara.it/evento/giovedi-14-maggio-2026-ore-1930-quando-larte-emoziona-come-i-dipinti-parlano-alla-mente-e-al-cuore/
LOCATION:Caffè Diamanti\, corso Ercole I d'Este 19\, Ferrara\, Ferrara\, 44121\, Italia
ATTACH;FMTTYPE=image/jpeg:https://www.rotaryferrara.it/wp-content/uploads/2026/04/rispoli.jpg
END:VEVENT
END:VCALENDAR