BEGIN:VCALENDAR
VERSION:2.0
PRODID:-//Rotary Ferrara - ECPv5.2.0//NONSGML v1.0//EN
CALSCALE:GREGORIAN
METHOD:PUBLISH
X-WR-CALNAME:Rotary Ferrara
X-ORIGINAL-URL:https://www.rotaryferrara.it
X-WR-CALDESC:Eventi per Rotary Ferrara
BEGIN:VTIMEZONE
TZID:Europe/Rome
BEGIN:DAYLIGHT
TZOFFSETFROM:+0100
TZOFFSETTO:+0200
TZNAME:CEST
DTSTART:20200329T010000
END:DAYLIGHT
BEGIN:STANDARD
TZOFFSETFROM:+0200
TZOFFSETTO:+0100
TZNAME:CET
DTSTART:20201025T010000
END:STANDARD
END:VTIMEZONE
BEGIN:VEVENT
DTSTART;VALUE=DATE:20200213
DTEND;VALUE=DATE:20200215
DTSTAMP:20260419T184233
CREATED:20200124T090622Z
LAST-MODIFIED:20200124T090622Z
UID:2343-1581570000-1581656399@www.rotaryferrara.it
SUMMARY:Giovedì 13 febbraio 2020 - La riunione non avrà luogo
DESCRIPTION:
URL:https://www.rotaryferrara.it/evento/giovedi-13-febbraio-2020-la-riunione-non-avra-luogo/
LOCATION:Ferrara\, Ferrara\, Italia
ATTACH;FMTTYPE=image/png:https://www.rotaryferrara.it/wp-content/uploads/2019/01/ruota-nuova.png
END:VEVENT
END:VCALENDAR