BEGIN:VCALENDAR
VERSION:2.0
PRODID:-//Rotary Ferrara - ECPv5.2.0//NONSGML v1.0//EN
CALSCALE:GREGORIAN
METHOD:PUBLISH
X-WR-CALNAME:Rotary Ferrara
X-ORIGINAL-URL:https://www.rotaryferrara.it
X-WR-CALDESC:Eventi per Rotary Ferrara
BEGIN:VTIMEZONE
TZID:Europe/Rome
BEGIN:DAYLIGHT
TZOFFSETFROM:+0100
TZOFFSETTO:+0200
TZNAME:CEST
DTSTART:20190331T010000
END:DAYLIGHT
BEGIN:STANDARD
TZOFFSETFROM:+0200
TZOFFSETTO:+0100
TZNAME:CET
DTSTART:20191027T010000
END:STANDARD
END:VTIMEZONE
BEGIN:VEVENT
DTSTART;TZID=Europe/Rome:20190228T190000
DTEND;TZID=Europe/Rome:20190228T203000
DTSTAMP:20260422T124704
CREATED:20190131T104349Z
LAST-MODIFIED:20190131T104349Z
UID:1521-1551380400-1551385800@www.rotaryferrara.it
SUMMARY:DIALOGO TRA RELIGIONI E CULTURE: L'ISLAM
DESCRIPTION:Primo di una serie di incontri dedicati alle religioni e al loro rapporto con le varie culture. \nCe ne parla la socia Enrica Martinelli.
URL:https://www.rotaryferrara.it/evento/dialogo-tra-religioni-e-culture-lislam/
LOCATION:Hotel Carlton\, piazza Sacrati\, Ferrara\, 44121\, Italia
END:VEVENT
END:VCALENDAR